BEGIN:VCALENDAR
VERSION:2.0
PRODID:-//79.143.179.135//NONSGML kigkonsult.se iCalcreator 2.20//
CALSCALE:GREGORIAN
METHOD:PUBLISH
X-WR-TIMEZONE:UTC
BEGIN:VEVENT
UID:event762@Coswig Ort der Vielfalt
DTSTAMP:20260424T123528Z
CATEGORIES:Sportveranstaltung
DESCRIPTION:6. Meissner Firmenstaffellauf\nKategorie: Sportveranstaltung\nI
 CS-Link: https://www.coswig-ort-der-vielfalt.de/index.php?option=com_jem&v
 iew=event&id=762:6-meissner-firmenstaffellauf\n
DTSTART;VALUE=DATE:20250926
DTEND;VALUE=DATE:20250927
SUMMARY:6. Meissner Firmenstaffellauf
URL:https://www.coswig-ort-der-vielfalt.de/index.php?option=com_jem&view=ev
 ent&id=762:6-meissner-firmenstaffellauf
END:VEVENT
END:VCALENDAR
