BEGIN:VCALENDAR
VERSION:2.0
PRODID:-//79.143.179.135//NONSGML kigkonsult.se iCalcreator 2.20//
CALSCALE:GREGORIAN
METHOD:PUBLISH
X-WR-TIMEZONE:UTC
BEGIN:VEVENT
UID:event478@Coswig Ort der Vielfalt
DTSTAMP:20260424T180913Z
CATEGORIES:Feste
DESCRIPTION:Tag der offenen Tür im Interkulturellen Garten\nKategorie: Fest
 e\nICS-Link: https://www.coswig-ort-der-vielfalt.de/index.php?option=com_j
 em&view=event&id=478:tag-der-offenen-tuer-im-interkulturellen-garten\n
DTSTART:20230701T100000Z
DTEND:20230701T150000Z
LOCATION:Interkultureller Garten Coswig e.V.\,Jaspisstraße 42\,01640  Coswi
 g
SUMMARY:Tag der offenen Tür im Interkulturellen Garten
URL:https://www.coswig-ort-der-vielfalt.de/index.php?option=com_jem&view=ev
 ent&id=478:tag-der-offenen-tuer-im-interkulturellen-garten
END:VEVENT
END:VCALENDAR
