BEGIN:VCALENDAR
VERSION:2.0
PRODID:-//79.143.179.135//NONSGML kigkonsult.se iCalcreator 2.20//
CALSCALE:GREGORIAN
METHOD:PUBLISH
X-WR-TIMEZONE:UTC
BEGIN:VEVENT
UID:event3@Coswig Ort der Vielfalt
DTSTAMP:20260422T200329Z
CATEGORIES:Vortrag
DESCRIPTION:ERITREA – Entdeckungsreise in ein unbekanntes Land\nKategorie: 
 Vortrag\nICS-Link: https://www.coswig-ort-der-vielfalt.de/index.php?option
 =com_jem&view=event&id=3:eritrea-entdeckungsreise-in-ein-unbekanntes-land
 \n
DTSTART:20180215T190000Z
DTEND:20180215T190000Z
LOCATION:Kath. Gemeindezentrum Heilig Kreuz Coswig\,Jaspisstraße 44\,01640 
 Coswig
SUMMARY:ERITREA – Entdeckungsreise in ein unbekanntes Land
URL:https://www.coswig-ort-der-vielfalt.de/index.php?option=com_jem&view=ev
 ent&id=3:eritrea-entdeckungsreise-in-ein-unbekanntes-land
END:VEVENT
END:VCALENDAR
